BEGIN:VCALENDAR
VERSION:2.0
PRODID:-//wp-events-plugin.com//7.2.3.1//EN
BEGIN:VEVENT
UID:215@moncoachbrico.com
DTSTART:20260516T133000Z
DTEND:20260516T163000Z
DTSTAMP:20260422T104452Z
URL:https://www.moncoachbrico.com/events/apprendre-les-bases-de-la-plomber
 ie-10/
SUMMARY:Apprendre les bases de la plomberie
DESCRIPTION:Les bases de la plomberieLes soucis de plomberie peuvent entrai
 ner bien des petits tracas quotidiens s’ils ne sont pas pris en charge r
 apidement. Envie de pouvoir intervenir et changer un robinet\, réparer un
 e fuite de chasse d’eau ou déboucher un évier sans faire appel à un p
 rofessionnel ? Rendez-vous dans notre atelier et apprenez\, en compagnie
  de nos experts\, les bases de la plomberie. Il suffit parfois de quelques
  notions très simples pour effectuer une réparation efficace. Notre anim
 ateur vous fait partager son expertise\, pas à pas. Vous êtes totalement
  débutant en bricolage ? Ça tombe bien ! Nous sommes là pour vous a
 ider à dire : C’EST MOI QUI L’AI FAIT !Vous vous êtes peut-être p
 osé la question ?		\n						\n		Comment s'habiller ?Prévoyez des vêtemen
 ts confortables et des chaussures fermées. Nous vous prêtons les blous
 es et l’équipement de protection éventuel !		\n						\n		Outils et mat
 ériel :Venez les mains vides ! Nous vous fournissons les outils\, les mat
 ériaux\, les ustensiles et notre bonne humeur !Quelles sont les étapes d
 e ce cours ?		\n						\n		Réparer une fuite d’eauEntre les dégâts qu
 ’elle peut engendrer et le montant de la facture d’eau qui en découle
 \, une fuite d’eau\, aussi petite soit-elle\, peut vite devenir un probl
 ème de taille\, si elle n’est pas prise en charge rapidement. Et si vou
 s preniez les choses en main ? Parmi les notions de plomberie à découv
 rir dans notre atelier\, apprenez\, en compagnie de nos experts\, comment 
 réparer une fuite d’eau durablement.		\n						\n		Déboucher une canali
 sation ou un siphonLes problèmes de canalisations bouchées comptent parm
 i les soucis de plomberie les plus courants. Que ce soit en cuisine ou dan
 s la salle de bain\, ils peuvent vite devenir pénibles et rendre difficil
 e l’utilisation des sanitaires. Nos experts vous aideront à apprendre l
 es bons gestes et les techniques de professionnels pour déboucher tuyaux 
 et siphons en un rien de temps.		\n						\n		Poser un robinet\, changer un
  joint et le détartrerQui n’a jamais eu envie de changer le style de sa
  cuisine en optant pour un nouveau robinet ? Qui n’a jamais eu de souc
 i d’entartrage ou de joint qui fuit ? L’étape 3 de notre cours de p
 lomberie vous guidera pas à pas à travers les différentes techniques po
 ur gérer vos problèmes de robinetterie d’une main de maître. Quels so
 nt les bons outils\, comment éviter les risques de fuite\, quels produits
  utiliser ? Autant de points fondamentaux que vous pourrez découvrir en
  compagnie de nos experts.		\n						\n		Changer la bonde du lavabo ou de l
 a baignoireBesoin d’une nouvelle bonde pour votre lavabo ou votre baigno
 ire ? Savez-vous qu’il suffit de quelques connaissances de base en plo
 mberie pour gérer seul ce renouvellement ? Venez apprendre à choisir v
 os outils\, sélectionner une bonde adaptée à vos envies ou encore déco
 uvrez les bons gestes pour retirer l’ancienne et poser la nouvelle bonde
  très facilement.		\n						\n		Changer un mécanisme de chasse d’eauAu 
 fil du temps\, le mécanisme de chasse d’eau peut se détériorer\, entr
 ainant d’éventuelles fuites et autres désagréments. Pourquoi ne pas e
 ffectuer ces travaux de plomberie vous-même ? Une nouvelle fois\, nos e
 xperts vous accompagneront dans la découverte des techniques nécessaires
  au changement d’un mécanisme de chasse d’eau.		\n		Et si vous souhai
 tez aller plus loin !Des informations complémentairesRetrouvez toutes les
  infos et les points abordés pendant ce cours sur notre site internet.Un 
 accompagnement en magasinÀ la fin de votre cours\, si vous le souhaitez\,
  notre animateur vous guidera dans le magasin pour choisir les outils et l
 es matériaux utilisés pendant l’atelier. Comme ça\, pas de fausse rou
 te !
ATTACH;FMTTYPE=image/jpeg:/wp-content/uploads/2025/03/les-bases-de-la-plom
 berie.webp?lm=67C829A8
CATEGORIES:Weldom
LOCATION:Weldom Frontignan\, Centre commercial les portes du muscat\, 97 av
 enue du marechal juin C\;C\, Frontignan\, herault\, 34110\, occitanie\, Fr
 ance
X-APPLE-STRUCTURED-LOCATION;VALUE=URI;X-ADDRESS=Centre commercial les porte
 s du muscat\, 97 avenue du marechal juin CC\, Frontignan\, herault\, 34110
 \, occitanie\, France;X-APPLE-RADIUS=100;X-TITLE=Weldom Frontignan:geo:0,0
END:VEVENT
END:VCALENDAR