BEGIN:VCALENDAR
VERSION:2.0
PRODID:-//wp-events-plugin.com//7.2.3.1//EN
BEGIN:VEVENT
UID:214@moncoachbrico.com
DTSTART:20260516T083000Z
DTEND:20260516T113000Z
DTSTAMP:20260422T104502Z
URL:https://www.moncoachbrico.com/events/apprendre-les-bases-de-lelectrici
 te-10/
SUMMARY:Apprendre les bases de l'électricité
DESCRIPTION:Les bases de l'électricitéApprenez les bases de l’électric
 ité et gagnez en autonomie pour vos petits travaux à la maison !Installe
 r une prise de courant\, brancher un interrupteur\, un va-et-vient\, déco
 der les règles de sécurité et les normes électriques\, différencier c
 ompteur\, disjoncteur et coupe-circuit : tous ces points sont au programme
 .Guidé par nos animateurs passionnés\, vous avancerez pas à pas\, dans 
 une ambiance conviviale et encourageante. Que vous soyez totalement début
 ant ou simplement en quête de perfectionnement\, nous sommes là pour vou
 s accompagner vers plus de confiance et de savoir-faire dans votre quotidi
 en.Vous vous êtes peut-être posé la question ?		\n						\n		Comment s'h
 abiller ?Prévoyez des vêtements confortables et des chaussures fermée
 s. Nous vous prêtons les blouses et l’équipement de protection éventu
 el !		\n						\n		Outils et matériel :Venez les mains vides ! Nous vous f
 ournissons les outils\, les matériaux\, les ustensiles et notre bonne hum
 eur !Quelles sont les étapes de ce cours ?		\n						\n		L’électricité
  à la maison\, comment ça marcheVous allez apprendre à différencier le
  compteur électrique\, le disjoncteur et le coupe-circuit\, et à utilise
 r le matériel nécessaire pour installer un circuit électrique. Notre an
 imateur vous apprendra à bien choisir la couleur des fils électriques et
  à travailler en toute sécurité\, en respectant les normes en vigueur.	
 	\n						\n		Comment dénuder un câble ?Lorsque l’on parle de brancheme
 nt électrique\, il faut savoir comment dénuder un câble avec une pince\
 , sans abîmer les fils et sans risque d’électrocution. Cette étape vo
 us permettra ensuite de réaliser tous les montages électriques de base. 
 Ça vaut le coup de s’y intéresser !		\n						\n		Comment poser une pri
 se électrique ?Vaut-il mieux poser une prise de courant encastrée ou app
 arente ? Avec notre animateur vous apprendrez comment monter un circuit é
 lectrique. Et vous apprendrez aussi à brancher une deuxième prise de cou
 rant en parallèle… car il n’y a jamais trop de prises dans une maison
  !		\n						\n		Comment poser un interrupteur ?Vous apprendrez ici comment
  raccorder l’interrupteur au circuit électrique. Il s’agit d’une é
 tape cruciale pour éclairer votre maison\, qui vous permettra tant de cha
 nger de vieux interrupteurs que d’en rajouter		\n						\n		Comment insta
 ller un va-et-vient ?Vous allez apprendre comment raccorder un va-et-vient
 . Cette installation électrique très pratique permet d’allumer une lam
 pe à partir de deux interrupteurs différents. Indispensable aux deux ext
 rémités d’un couloir ou en bas et en haut d’un escalier pour éclair
 er l’entrée ou le palier\, non ?		\n						\n		Comment remplacer un inte
 rrupteur par un variateur de lumière ?Notre animateur vous proposera de f
 aire un exercice pour installer un variateur de lumière à la place d’u
 n simple interrupteur. Cet accessoire est très utile pour doser l’inten
 sité lumineuse dans le séjour ou la chambre. Vous pourrez également rev
 enir sur certains points évoqués pendant l’atelier ou poser des questi
 ons complémentaires. N’hésitez pas !		\n		Et si vous souhaitez aller p
 lus loin !Des informations complémentairesRetrouvez toutes les infos et l
 es points abordés pendant ce cours sur notre site internet.Un accompagnem
 ent en magasinÀ la fin de votre cours\, si vous le souhaitez\, notre anim
 ateur vous guidera dans le magasin pour choisir les outils et les matéria
 ux utilisés pendant l’atelier. Comme ça\, pas de fausse route !
ATTACH;FMTTYPE=image/jpeg:/wp-content/uploads/2025/03/jpeg.webp?lm=67C6E85
 1
CATEGORIES:Weldom
LOCATION:Weldom Frontignan\, Centre commercial les portes du muscat\, 97 av
 enue du marechal juin C\;C\, Frontignan\, herault\, 34110\, occitanie\, Fr
 ance
X-APPLE-STRUCTURED-LOCATION;VALUE=URI;X-ADDRESS=Centre commercial les porte
 s du muscat\, 97 avenue du marechal juin CC\, Frontignan\, herault\, 34110
 \, occitanie\, France;X-APPLE-RADIUS=100;X-TITLE=Weldom Frontignan:geo:0,0
END:VEVENT
END:VCALENDAR