BEGIN:VCALENDAR
VERSION:2.0
PRODID:-//wp-events-plugin.com//7.2.3.1//EN
BEGIN:VEVENT
UID:212@moncoachbrico.com
DTSTART:20260425T083000Z
DTEND:20260425T113000Z
DTSTAMP:20260422T104514Z
URL:https://www.moncoachbrico.com/events/apprendre-les-bases-du-bricolage-
 11/
SUMMARY:Apprendre les bases du bricolage
DESCRIPTION:Les bases du bricolageComment se déroule ce cours ?Devenez aut
 onome dans vos petits travaux grâce à nos cours de bricolage !Poser une 
 tringle à rideau\, fixer une étagère\, changer une prise ou déboucher 
 un siphon… Vous en avez assez de compter sur des professionnels ou de so
 lliciter vos proches pour ces petits travaux du quotidien ? Nos cours de b
 ricolage sont conçus pour vous donner les clés de l’autonomie.En parti
 cipant à ce cours\, vous apprendrez à maîtriser les techniques pour per
 cer et fixer en toute sécurité ainsi que les gestes essentiels en plombe
 rie et en électricité. À la fin de ce cours\, vous serez en mesure de r
 éaliser vous-même ces tâches simples\, avec la fierté de dire : "C’
 EST MOI QUI L’AI FAIT !"Guidé par nos animateurs passionnés\, vous ava
 ncerez pas à pas\, dans une ambiance conviviale et encourageante. Que vou
 s soyez totalement débutant ou simplement en quête de perfectionnement\,
  nous sommes là pour vous accompagner vers plus de confiance et de savoir
 -faire dans votre quotidien.Vous vous êtes peut-être posé la question ?
 		\n						\n		Comment s'habiller ?Prévoyez des vêtements confortables 
 et des chaussures fermées. Nous vous prêtons les blouses et l’équipem
 ent de protection éventuel !		\n						\n		Outils et matériel :Venez les 
 mains vides ! Nous vous fournissons les outils\, les matériaux\, les uste
 nsiles et notre bonne humeur !Quelles sont les étapes de ce cours ?		\n		
 				\n		Comment percer et fixer un objet au murVotre animateur vous appren
 dra à reconnaître la nature de votre mur ou de la cloison (plaque de pl
 âtre\, béton\, parpaings\, ciment\, briques…) pour choisir les bonnes 
 fixations murales. Il en va de la solidité de votre ouvrage ! Vous appren
 drez aussi à utiliser un niveau à bulle… indispensable !		\n						\n		
 Comment se débrouiller seul en plomberie ?Votre robinet de lavabo fuit ? 
 Pas de panique. Vous allez apprendre à poser un robinet et ses flexibles\
 , changer les joints d’étanchéité et aussi poser un joint de silicone
 . Enfin vous serez en mesure de résoudre les tracas quotidiens de la plom
 berie.		\n						\n		Comment réaliser de petits travaux d’électricité 
 ?Votre animateur vous expliquera comment changer une douille dans une lamp
 e\, poser un luminaire (plafonnier ou applique murale) et raccorder une pr
 ise de courant ou un interrupteur.		\n		Et si vous souhaitez aller plus lo
 in !Des informations complémentairesRetrouvez toutes les infos et les poi
 nts abordés pendant ce cours sur notre site internet. Un accompagnement 
 en magasinÀ la fin de votre cours\, si vous le souhaitez\, notre animateu
 r vous guidera dans le magasin pour choisir les outils et les matériaux u
 tilisés pendant l’atelier. Comme ça\, pas de fausse route !
ATTACH;FMTTYPE=image/jpeg:/wp-content/uploads/2025/03/media.webp?lm=67C4C8
 DC
CATEGORIES:Weldom
LOCATION:Weldom Frontignan\, Centre commercial les portes du muscat\, 97 av
 enue du marechal juin C\;C\, Frontignan\, herault\, 34110\, occitanie\, Fr
 ance
X-APPLE-STRUCTURED-LOCATION;VALUE=URI;X-ADDRESS=Centre commercial les porte
 s du muscat\, 97 avenue du marechal juin CC\, Frontignan\, herault\, 34110
 \, occitanie\, France;X-APPLE-RADIUS=100;X-TITLE=Weldom Frontignan:geo:0,0
END:VEVENT
END:VCALENDAR