BEGIN:VCALENDAR
VERSION:2.0
PRODID:-//wp-events-plugin.com//7.2.3.1//EN
BEGIN:VEVENT
UID:82@moncoachbrico.com
DTSTART:20250412T130000Z
DTEND:20250412T160000Z
DTSTAMP:20250328T134300Z
URL:https://www.moncoachbrico.com/events/les-bases-du-bricolage-14/
SUMMARY:Les bases du bricolage
DESCRIPTION:[elementor-template id="42112"]
ATTACH;FMTTYPE=image/jpeg:/wp-content/uploads/2025/03/media.webp?lm=67C4C8
 DC
LOCATION:Latour Bas Elne\, Zac Des Aspres\, Av. Lou Torrent\, Latour-Bas-El
 ne\, 66200\, France
X-APPLE-STRUCTURED-LOCATION;VALUE=URI;X-ADDRESS=Zac Des Aspres\, Av. Lou To
 rrent\, Latour-Bas-Elne\, 66200\, France;X-APPLE-RADIUS=100;X-TITLE=Latour
  Bas Elne:geo:0,0
END:VEVENT
END:VCALENDAR