BEGIN:VCALENDAR
VERSION:2.0
PRODID:-//wp-events-plugin.com//7.2.3.1//EN
BEGIN:VEVENT
UID:213@moncoachbrico.com
DTSTART:20260425T133000Z
DTEND:20260425T163000Z
DTSTAMP:20260422T104627Z
URL:https://www.moncoachbrico.com/events/preparer-et-peindre-un-mur-interi
 eur-15/
SUMMARY:Préparer et peindre un mur intérieur
DESCRIPTION:Comment préparer un mur et le peindre ?Comment se déroule ce 
 cours ?Vous avez envie de repeindre votre appartement sans faire appel à 
 un professionnel. Mais est-ce que vous avez le bon coup de pinceau pour r
 éussir ce chantier de peinture ? Venez apprendre à peindre murs et plafo
 nds au rouleau\, sans coulures et sans traces ! Protection\, préparation\
 , application\, finition… vous saurez le faire facilement chez vous\, co
 mme un vrai pro !Notre animateur vous fait partager son expertise\, pas à
  pas. Vous êtes totalement débutant en bricolage ? Ça tombe bien ! Nous
  sommes là pour vous aider à dire : C’EST MOI QUI L’AI FAIT !Vous vo
 us êtes peut-être posé la question ?		\n						\n		Comment s'habiller ?P
 révoyez des vêtements confortables et des chaussures fermées. Nous vo
 us prêtons les blouses et l’équipement de protection éventuel !		\n		
 				\n		Outils et matériel :Venez les mains vides ! Nous vous fournissons
  les outils\, les matériaux\, les ustensiles et notre bonne humeur !Quell
 es sont les étapes de ce cours ?		\n						\n		Comment protéger la pièce
  avant de peindre un mur ou de peindre un plafond ?Votre animateur vous ex
 pliquera comment protéger les meubles\, les prises électriques\, les int
 errupteurs\, les radiateurs\, les fenêtres et les portes contre les proje
 ctions de peinture et les coulures. N’oubliez pas les bâches de protect
 ion et le ruban de masquage !		\n						\n		Comment préparer un mur ou un 
 plafond avant de le peindre ?Si la peinture est en bon état\, un lessivag
 e suffit. Mais avec une peinture cloquée ou abîmée\, il faut passer aux
  choses sérieuses ! A cette étape\, vous apprendrez à appliquer un endu
 it de rebouchage pour reboucher les trous et les fissures. Si vous souhait
 ez peindre une cloison en placoplâtre\, votre animateur vous montrera com
 ment appliquer un enduit de lissage.		\n						\n		Comment préparer la pei
 nture et le matériel de peintre ?Parfois\, la peinture a besoin d’être
  diluée pour faciliter son application. Mais attention : on n’utilise p
 as les mêmes produits avec une peinture acrylique et avec une peinture gl
 ycérophtalique ! Votre animateur vous montrera ses astuces pour vous simp
 lifier le travail.		\n						\n		Comment appliquer une sous-couche avant de
  peindre ?La peinture d’apprêt ou sous-couche sert à obtenir un suppor
 t blanc. Pourquoi ? Pour garantir le coloris de la peinture de finition. V
 otre animateur vous expliquera comment utiliser une brosse à réchampir p
 our dégager les angles.		\n						\n		Comment peindre un mur sans traces ?
 Vous avez l’escabeau\, le bac à peinture et le rouleau ? A cette étape
 \, votre animateur vous montrera les gestes à suivre pour peindre sans ba
 vures\, ni coulures. Vous apprendrez ici à peindre un mur en procédant p
 ar petites zones… c’est le secret !		\n						\n		Comment peindre un pl
 afond sans traces ?Sur un plafond\, le sens de l’application de la peint
 ure a encore plus d’importance car la lumière est rasante. A cette éta
 pe\, vous apprendrez à peindre d’une extrémité à l’autre ou en esc
 alier. A la fin de votre atelier\, vous pouvez revenir sur certains points
  ou poser des questions complémentaires. N’hésitez pas !		\n		Et si vo
 us souhaitez aller plus loin !Des informations complémentairesRetrouvez t
 outes les infos et les points abordés pendant ce cours sur notre site int
 ernet.Un accompagnement en magasinÀ la fin de votre cours\, si vous le so
 uhaitez\, notre animateur vous guidera dans le magasin pour choisir les ou
 tils et les matériaux utilisés pendant l’atelier. Comme ça\, pas de f
 ausse route !
ATTACH;FMTTYPE=image/jpeg:/wp-content/uploads/2021/02/cours-peinture.jpg?l
 m=6131D869
CATEGORIES:Weldom
LOCATION:Weldom Frontignan\, Centre commercial les portes du muscat\, 97 av
 enue du marechal juin C\;C\, Frontignan\, herault\, 34110\, occitanie\, Fr
 ance
X-APPLE-STRUCTURED-LOCATION;VALUE=URI;X-ADDRESS=Centre commercial les porte
 s du muscat\, 97 avenue du marechal juin CC\, Frontignan\, herault\, 34110
 \, occitanie\, France;X-APPLE-RADIUS=100;X-TITLE=Weldom Frontignan:geo:0,0
END:VEVENT
END:VCALENDAR